BEGIN:VCALENDAR
VERSION:2.0
PRODID:-//Lisa Espinosa - ECPv6.15.20//NONSGML v1.0//EN
CALSCALE:GREGORIAN
METHOD:PUBLISH
X-ORIGINAL-URL:https://lisaespinosa.net
X-WR-CALDESC:Events for Lisa Espinosa
REFRESH-INTERVAL;VALUE=DURATION:PT1H
X-Robots-Tag:noindex
X-PUBLISHED-TTL:PT1H
BEGIN:VTIMEZONE
TZID:America/Chicago
BEGIN:DAYLIGHT
TZOFFSETFROM:-0600
TZOFFSETTO:-0500
TZNAME:CDT
DTSTART:20200308T080000
END:DAYLIGHT
BEGIN:STANDARD
TZOFFSETFROM:-0500
TZOFFSETTO:-0600
TZNAME:CST
DTSTART:20201101T070000
END:STANDARD
BEGIN:DAYLIGHT
TZOFFSETFROM:-0600
TZOFFSETTO:-0500
TZNAME:CDT
DTSTART:20210314T080000
END:DAYLIGHT
BEGIN:STANDARD
TZOFFSETFROM:-0500
TZOFFSETTO:-0600
TZNAME:CST
DTSTART:20211107T070000
END:STANDARD
BEGIN:DAYLIGHT
TZOFFSETFROM:-0600
TZOFFSETTO:-0500
TZNAME:CDT
DTSTART:20220313T080000
END:DAYLIGHT
BEGIN:STANDARD
TZOFFSETFROM:-0500
TZOFFSETTO:-0600
TZNAME:CST
DTSTART:20221106T070000
END:STANDARD
END:VTIMEZONE
BEGIN:VEVENT
DTSTART;TZID=America/Chicago:20210923T190000
DTEND;TZID=America/Chicago:20210923T203000
DTSTAMP:20260423T144610
CREATED:20210813T151029Z
LAST-MODIFIED:20220131T065802Z
UID:3754-1632423600-1632429000@lisaespinosa.net
SUMMARY:Emotional Healing with Internal Family Systems (IFS)
DESCRIPTION:Internal Family Systems (IFS) is a gentle and powerful psychospiritual model of therapy that helps you reach emotional balance by healing the various parts of you that carry emotional burdens and wounds.\n\nApply practical IFS exercises you can do everyday to promote more emotional balance and harmony.\n\nEmploy a simple\, but powerful\, process to heal the different parts of you that carry emotional wounds and may be blocking you from experiencing long-lasting peace.\n\nExperience healing meditations to support you in compassionately connecting with the various parts of you that need healing. Along with discussion and sharing\, time is allotted with journal prompts designed to bring you emotional clarity and relief.\n\nIFS provides a framework for you to listen to and appreciate the value of each of your parts to unburden or restore wounded parts and establish a trusted\, healthy\, harmonious internal system for your Self.\n\nThis three-part series is presented by Infinity Foundation and held via Zoom.\nYour investment is $60 before 9/13 and $65 after. 4 CEUs are available.\nClick HERE to Register.\n\nLisa Espinosa is a Modern-Day Priestess\, Career Leadership Coach and the award-winning author of Answering Your Inner Calling. Her upcoming book\, Birthing the Priestess Within\, is a spiritual memoir and guide for those called to the Priestess path. She is the host of the podcast\, Soul Studio for Your Career. Lisa integrates her training in the Internal Family Systems model of psychotherapy\, Reiki energy healing\, and spiritual principles in her work. The mother of five\, she lives in Chicago.
URL:https://lisaespinosa.net/event/emotional-healing-with-internal-family-systems-ifs/
LOCATION:via Zoom
CATEGORIES:Energy Healing,Internal Family Systems,Soul Guidance
END:VEVENT
BEGIN:VEVENT
DTSTART;TZID=America/Chicago:20210613T130000
DTEND;TZID=America/Chicago:20210613T150000
DTSTAMP:20260423T144610
CREATED:20210426T162523Z
LAST-MODIFIED:20211123T065227Z
UID:3578-1623589200-1623596400@lisaespinosa.net
SUMMARY:Enhancing Career Creativity with IFS
DESCRIPTION:You came here to bring healing to the world through your career. However\, it can feel hard to access those visions and stay focused on them. \nJoin Lisa Espinosa\, spiritual career coach and award-winning author of Answering Your Inner Calling\, for this transformative workshop that integrates principles from the Internal Family Systems (IFS) model of psychotherapy. \nThis class is offered through Infinity Foundation and held via Zoom.\nFor all the details CLICK HERE. \nRegister HERE.
URL:https://lisaespinosa.net/event/enhancing-career-creativity-with-ifs/
LOCATION:via Zoom
CATEGORIES:Energy Healing,Internal Family Systems,Soul Guidance
END:VEVENT
END:VCALENDAR