BEGIN:VCALENDAR
VERSION:2.0
PRODID:-//Lisa Espinosa - ECPv6.15.20//NONSGML v1.0//EN
CALSCALE:GREGORIAN
METHOD:PUBLISH
X-WR-CALNAME:Lisa Espinosa
X-ORIGINAL-URL:https://lisaespinosa.net
X-WR-CALDESC:Events for Lisa Espinosa
REFRESH-INTERVAL;VALUE=DURATION:PT1H
X-Robots-Tag:noindex
X-PUBLISHED-TTL:PT1H
BEGIN:VTIMEZONE
TZID:America/Chicago
BEGIN:DAYLIGHT
TZOFFSETFROM:-0600
TZOFFSETTO:-0500
TZNAME:CDT
DTSTART:20180311T080000
END:DAYLIGHT
BEGIN:STANDARD
TZOFFSETFROM:-0500
TZOFFSETTO:-0600
TZNAME:CST
DTSTART:20181104T070000
END:STANDARD
BEGIN:DAYLIGHT
TZOFFSETFROM:-0600
TZOFFSETTO:-0500
TZNAME:CDT
DTSTART:20190310T080000
END:DAYLIGHT
BEGIN:STANDARD
TZOFFSETFROM:-0500
TZOFFSETTO:-0600
TZNAME:CST
DTSTART:20191103T070000
END:STANDARD
BEGIN:DAYLIGHT
TZOFFSETFROM:-0600
TZOFFSETTO:-0500
TZNAME:CDT
DTSTART:20200308T080000
END:DAYLIGHT
BEGIN:STANDARD
TZOFFSETFROM:-0500
TZOFFSETTO:-0600
TZNAME:CST
DTSTART:20201101T070000
END:STANDARD
BEGIN:DAYLIGHT
TZOFFSETFROM:-0600
TZOFFSETTO:-0500
TZNAME:CDT
DTSTART:20210314T080000
END:DAYLIGHT
BEGIN:STANDARD
TZOFFSETFROM:-0500
TZOFFSETTO:-0600
TZNAME:CST
DTSTART:20211107T070000
END:STANDARD
BEGIN:DAYLIGHT
TZOFFSETFROM:-0600
TZOFFSETTO:-0500
TZNAME:CDT
DTSTART:20220313T080000
END:DAYLIGHT
BEGIN:STANDARD
TZOFFSETFROM:-0500
TZOFFSETTO:-0600
TZNAME:CST
DTSTART:20221106T070000
END:STANDARD
END:VTIMEZONE
BEGIN:VEVENT
DTSTART;TZID=America/Chicago:20210420T120000
DTEND;TZID=America/Chicago:20210420T140000
DTSTAMP:20260422T204915
CREATED:20210315T162525Z
LAST-MODIFIED:20211123T065501Z
UID:3490-1618920000-1618927200@lisaespinosa.net
SUMMARY:Writing Your Priestess Origin Story (Luncheon + Talk)
DESCRIPTION:The call to the Priestess path is a calling to be a channel of unconditional love for yourself and for the world. \nEveryone who answers this call has a unique Priestess Origin Story. This is the set of experiences\, and often challenging initiations\, that created your unique Priestess medicine: that healing presence that is so needed in the world. \nJoin spiritual career coach\, Lisa Espinosa\, as she guides you on how to begin writing your Priestess Origin Story so you can embody it more fully and be a way-shower of love in these times. \nDue to COVID precautions\, space is limited. And you MUST register. Walk-ins will not be allowed. Masks required.
URL:https://lisaespinosa.net/event/writing-your-priestess-origin-story-luncheon-talk/
LOCATION:The Center\, 12700 Southwest Highway\, Palos Park\, IL\, 60464\, United States
CATEGORIES:Book Talk,Energy Healing,Meditation,Soul Guidance
END:VEVENT
BEGIN:VEVENT
DTSTART;TZID=America/Chicago:20200526T100000
DTEND;TZID=America/Chicago:20200526T104500
DTSTAMP:20260422T204915
CREATED:20200504T005212Z
LAST-MODIFIED:20211123T073643Z
UID:2798-1590487200-1590489900@lisaespinosa.net
SUMMARY:5 Days with Answering Your Inner Calling
DESCRIPTION:Your Soul is the most EFFICIENT\, powerful GUIDE you can have in your career evolution. It knows the details of your life’s mission. And if you’re committed to following Her guidance you will be led in the best way to share your medicine with the world. \nLisa’s award-winning book\, Answering Your Inner Calling\, is four years old this year. \nTo celebrate Lisa’s leading a  free 5-day journey\, through her award-wining book\, Answering Your Inner Calling.If you can’t attend live the recordings will be available on her FB page and website.* This event will be from May 26-May 28th and June 1st and 2nd at 10:00am CDT (approximately 30-45 minutes long) \nLisa will highlight important teachings from each chapter of her book\, in an effective\, impactful way so you can integrate these teachings as you evolve your career. \nIncluding: \n\nImportant SOUL QUALITIES to help your career evolution.\nHow to create short\, simple rituals throughout the day so you have ONGOING & CONSISTENT communication with your Soul\nPractical tools to HEAL SELF-SABOTAGE on your path of career evolution\nLearning the DIRECT & INDIRECT ways your Soul speaks to you.\n\nGathering will also include: \n\nMeditations\nReiki\nOracle cards\n\nAlong the way Lisa will share some of her PERSONAL STORY of leaving her work as a middle school teacher ten years ago to do the work she does today. \nThis 5-day journey is designed to help you EVOLVE your career so you can share more of your Soul’s gifts with the world. \nRemember\, NOBODY ELSE HAS YOUR SOUL’S MEDICINE. And it is so needed in the world now. \nLisa’s book is available on Amazon both in print and in Kindle form here. Although\, it’s not necessary to have Lisa’s book to participate it would be helpful. \nIf you can’t attend live\, the recordings will be on Lisa’s Facebook page\, Lisaesp23\, that same day. They will also be on her website\, lisaespinosa.net\, under Free Resources\, Soul Videos. Please note that it may take a few days for the recordings to be uploaded to her website.
URL:https://lisaespinosa.net/event/5-days-with-answering-your-inner-calling/
LOCATION:Facebook
CATEGORIES:Book Talk,Facebook Live,Soul Guidance
END:VEVENT
BEGIN:VEVENT
DTSTART;TZID=America/Chicago:20200207T100000
DTEND;TZID=America/Chicago:20200207T150000
DTSTAMP:20260422T204915
CREATED:20190820T185319Z
LAST-MODIFIED:20191203T171250Z
UID:2115-1581069600-1581087600@lisaespinosa.net
SUMMARY:Soul Summit for Your Career
DESCRIPTION:You are invited to the FIRST annual Soul Summit for Your Career. Start 2020 by aligning with your Soul’s guidance about the evolution of your career. Remember when a group of women gather unlimited miracles and blessings are created. \nThis special event is open to only 12 women! And\, because it is the FIRST one I am offering it at a very special rate of $77 (before 12/31). \nThis will be a day of conscious creating and manifesting to ensure that you step fully into your role as a leader—one that is led by her heart and Soul. \nThis sacred event is about claiming your Divine birthright to share your medicine in a way that is fulfilling for you and those you serve. \nAnd it is about courageously committing to come out of hiding\, clear your burdens\, and be seen as a beacon of light in 2020 and beyond. \nI will lead you through various sacred ceremonies and rituals. As well as light-filled law of attraction exercises so that all the resources\, connections\, and support you need arrives with ease and flow into your life. \nThe day will include Reiki\, meditation\, Spirit guide connection\, past life & ancestral legacy healing and more. Yay! Oh and a delicious lunch. \nMy prayer of love and blessings goes out to all of you amazing women who are meant to be at this beautiful event. \nMuch love\,\nLisa
URL:https://lisaespinosa.net/event/soul-summit-for-your-career/
LOCATION:The Center\, 12700 Southwest Highway\, Palos Park\, IL\, 60464\, United States
CATEGORIES:Book Talk,Energy Healing,Meditation,Reiki,Retreat,Soul Guidance
END:VEVENT
BEGIN:VEVENT
DTSTART;TZID=America/Chicago:20191208T130000
DTEND;TZID=America/Chicago:20191208T160000
DTSTAMP:20260422T204915
CREATED:20190820T183301Z
LAST-MODIFIED:20211123T113344Z
UID:2110-1575810000-1575820800@lisaespinosa.net
SUMMARY:Birthing the Inner Priestess: The Mini-Training
DESCRIPTION:Learn to be a channel of unconditional love for yourself & the world  \nAnswering the call to the priestess path is not a religious calling\, but rather a calling to be a channel of unconditional love for yourself and the world\, regardless of what job title you may have. Watch short video below to learn more. \n \nIn this class you’ll learn how to: \n\nEnhance your ability to love yourself unconditionally and then extend that to others.\nIntegrate life’s\, often painful\, initiations so they can become embodied wisdom for yourself and others.\nEmbody and ground more of your Soul’s light so you can activate your Soul’s gifts and share them with the world.\n\nThe workshop will include: \n\nPractical journal exercises to receive guidance about your priestess path.\nGuided meditations to help you connect with your heart’s temple to release blocks to unconditionally loving yourself and the world.\nSpecial Reiki attunement to activate and empower your heart’s temple.\n\nThroughout the workshop\, Lisa will share excerpts and teachings from her next book\, Birthing the Priestess Within\, and talk about her journey of answering this important calling. \nInvestment is $60\nClick here to register.
URL:https://lisaespinosa.net/event/birthing-the-inner-priestess-the-mini-training/
LOCATION:Infinity Foundation\, 1280 Old Skokie Valley Rd\, Highland Park\, Chicago\, IL\, 60035\, United States
CATEGORIES:Book Talk,Energy Healing,Meditation,Reiki
END:VEVENT
BEGIN:VEVENT
DTSTART;TZID=America/Chicago:20191029T120000
DTEND;TZID=America/Chicago:20191029T140000
DTSTAMP:20260422T204915
CREATED:20190819T212959Z
LAST-MODIFIED:20211123T074616Z
UID:2103-1572350400-1572357600@lisaespinosa.net
SUMMARY:Birthing the Priestess Within: Book Talk & Luncheon
DESCRIPTION:Join Lisa Espinosa as she shares guidance from her next book\, coming in 2020: \nBirthing the Priestess Within: 3 Processes for Reclaiming Your Ability to Heal Yourself & Bring Healing to the World \nLisa will talk about the calling to the “Priestess Path”\, which is not a religious calling\, but a calling from the Divine to be a channel of unconditional love\, regardless of what job title you have. \n12 – 1pm: Luncheon\n1 – 2pm: Book discussion \nRegistration is $23 and available by phone only.\nCall The Center at (708) 361-3650.\nPayment is kindly requested at time of registration.
URL:https://lisaespinosa.net/event/birthing-the-priestess-within-book-talk-luncheon-2/
LOCATION:The Center\, 12700 Southwest Highway\, Palos Park\, IL\, 60464\, United States
CATEGORIES:Book Talk,Soul Guidance
END:VEVENT
BEGIN:VEVENT
DTSTART;TZID=America/Chicago:20191006T093000
DTEND;TZID=America/Chicago:20191006T130000
DTSTAMP:20260422T204915
CREATED:20190627T192456Z
LAST-MODIFIED:20211123T074434Z
UID:2038-1570354200-1570366800@lisaespinosa.net
SUMMARY:Birthing the Priestess Within: Book Talk & Workshop
DESCRIPTION:Join Lisa for a book talk and workshop focused on her upcoming creation: \n“Birthing the Priestess Within: 3 Processes for Reclaiming Your Ability to Heal Yourself and Bring Healing to the World.” \nSunday Series at SoderWorld Wellness Center\, Willowbrook\, IL.\nSunday\, October 6th\, 2019\n9:30 – 10:30am: Book Talk (free)\n11:00am – 1:00pm: Workshop ($25\, no preregistration\, pay at event)
URL:https://lisaespinosa.net/event/birthing-the-priestess-within-book-talk-workshop/
LOCATION:SoderWorld Wellness Center\, 16 W. 501 Nielson Ln\, Willowbrook\, 60527\, United States
CATEGORIES:Book Talk,Meditation,Soul Guidance
END:VEVENT
END:VCALENDAR